BEGIN:VCALENDAR
VERSION:2.0
PRODID:-//wandernsteiermark//DE
CALSCALE:GREGORIAN
BEGIN:VEVENT
DTSTAMP:20260422T145921Z
DTSTART:20260426T090000Z
DTEND:20260426T170000Z
SUMMARY:Vorauer Schwaig von Tränktörl – Wechselland
DESCRIPTION:
LOCATION:
END:VEVENT
END:VCALENDAR
